BEGIN:VCALENDAR
VERSION:2.0
PRODID:-//IP.Board Calendar 4.3.6//EN
METHOD:PUBLISH
CALSCALE:GREGORIAN
BEGIN:VTIMEZONE
TZID:Europe/London
TZURL:http://tzurl.org/zoneinfo/Europe/London
X-LIC-LOCATION:Europe/London
BEGIN:DAYLIGHT
TZOFFSETFROM:+0000
TZOFFSETTO:+0100
TZNAME:BST
DTSTART:20190331T020000Z
RRULE:FREQ=YEARLY;BYMONTH=3;BYDAY=-1SU
END:DAYLIGHT
BEGIN:STANDARD
TZOFFSETFROM:+0100
TZOFFSETTO:+0000
TZNAME:GMT
DTSTART:20191027T020000Z
RRULE:FREQ=YEARLY;BYMONTH=10;BYDAY=-1SU
END:STANDARD
END:VTIMEZONE
BEGIN:VTIMEZONE
TZID:Europe/London
TZURL:http://tzurl.org/zoneinfo/Europe/London
X-LIC-LOCATION:Europe/London
BEGIN:DAYLIGHT
TZOFFSETFROM:+0000
TZOFFSETTO:+0100
TZNAME:BST
DTSTART:20180325T020000Z
RRULE:FREQ=YEARLY;BYMONTH=3;BYDAY=-1SU
END:DAYLIGHT
BEGIN:STANDARD
TZOFFSETFROM:+0100
TZOFFSETTO:+0000
TZNAME:GMT
DTSTART:20181028T020000Z
RRULE:FREQ=YEARLY;BYMONTH=10;BYDAY=-1SU
END:STANDARD
END:VTIMEZONE
BEGIN:VTIMEZONE
TZID:Europe/London
TZURL:http://tzurl.org/zoneinfo/Europe/London
X-LIC-LOCATION:Europe/London
BEGIN:DAYLIGHT
TZOFFSETFROM:+0000
TZOFFSETTO:+0100
TZNAME:BST
DTSTART:20170326T020000Z
RRULE:FREQ=YEARLY;BYMONTH=3;BYDAY=-1SU
END:DAYLIGHT
BEGIN:STANDARD
TZOFFSETFROM:+0100
TZOFFSETTO:+0000
TZNAME:GMT
DTSTART:20171029T020000Z
RRULE:FREQ=YEARLY;BYMONTH=10;BYDAY=-1SU
END:STANDARD
END:VTIMEZONE
BEGIN:VTIMEZONE
TZID:Europe/London
TZURL:http://tzurl.org/zoneinfo/Europe/London
X-LIC-LOCATION:Europe/London
BEGIN:DAYLIGHT
TZOFFSETFROM:+0000
TZOFFSETTO:+0100
TZNAME:BST
DTSTART:20160327T020000Z
RRULE:FREQ=YEARLY;BYMONTH=3;BYDAY=-1SU
END:DAYLIGHT
BEGIN:STANDARD
TZOFFSETFROM:+0100
TZOFFSETTO:+0000
TZNAME:GMT
DTSTART:20161030T020000Z
RRULE:FREQ=YEARLY;BYMONTH=10;BYDAY=-1SU
END:STANDARD
END:VTIMEZONE
BEGIN:VTIMEZONE
TZID:Europe/London
TZURL:http://tzurl.org/zoneinfo/Europe/London
X-LIC-LOCATION:Europe/London
BEGIN:DAYLIGHT
TZOFFSETFROM:+0000
TZOFFSETTO:+0100
TZNAME:BST
DTSTART:20150329T020000Z
RRULE:FREQ=YEARLY;BYMONTH=3;BYDAY=-1SU
END:DAYLIGHT
BEGIN:STANDARD
TZOFFSETFROM:+0100
TZOFFSETTO:+0000
TZNAME:GMT
DTSTART:20151025T020000Z
RRULE:FREQ=YEARLY;BYMONTH=10;BYDAY=-1SU
END:STANDARD
END:VTIMEZONE
BEGIN:VEVENT
SUMMARY:BCT 2
DTSTAMP:20190130T214728Z
SEQUENCE:0
UID:750-2-3dfef6adaeb74c748516d44630a423c7@tactical-stealth-squad.de
ORGANIZER;CN="MacChronik":info@tactical-stealth-squad.de
DESCRIPTION:\n	Basic Combat Training 2.\n
DTSTART:20190208T180000Z
ATTENDEE;CN="MacChronik";CUTYPE=INDIVIDUAL;PARTSTAT=ACCEPTED
	:info@tactical-stealth-squad.de
ATTENDEE;CN="Comthron";CUTYPE=INDIVIDUAL;PARTSTAT=ACCEPTED:i
	nfo@tactical-stealth-squad.de
ATTENDEE;CN="Cring";CUTYPE=INDIVIDUAL;PARTSTAT=ACCEPTED:info
	@tactical-stealth-squad.de
ATTENDEE;CN="LuckyMike88";CUTYPE=INDIVIDUAL;PARTSTAT=ACCEPTE
	D:info@tactical-stealth-squad.de
END:VEVENT
BEGIN:VEVENT
SUMMARY:BCT 1
DTSTAMP:20190128T212846Z
SEQUENCE:0
UID:745-2-3dfef6adaeb74c748516d44630a423c7@tactical-stealth-squad.de
ORGANIZER;CN="MacChronik":info@tactical-stealth-squad.de
DESCRIPTION:\n\n	Basic Combat Training #1\n\n\n\n	Grundlagen Steuerung\,
	 Funk\, Meldungen\, Orientierung und Bewegung\, Formationen und Sicherung\
	n\n
DTSTART:20190130T180000Z
ATTENDEE;CN="MacChronik";CUTYPE=INDIVIDUAL;PARTSTAT=ACCEPTED
	:info@tactical-stealth-squad.de
ATTENDEE;CN="Cring";CUTYPE=INDIVIDUAL;PARTSTAT=ACCEPTED:info
	@tactical-stealth-squad.de
ATTENDEE;CN="Julius.";CUTYPE=INDIVIDUAL;PARTSTAT=ACCEPTED:in
	fo@tactical-stealth-squad.de
ATTENDEE;CN="LuckyMike88";CUTYPE=INDIVIDUAL;PARTSTAT=ACCEPTE
	D:info@tactical-stealth-squad.de
ATTENDEE;CN="joker7";CUTYPE=INDIVIDUAL;PARTSTAT=ACCEPTED:inf
	o@tactical-stealth-squad.de
END:VEVENT
BEGIN:VEVENT
SUMMARY:Offenes Training
DTSTAMP:20180515T090043Z
SEQUENCE:0
UID:673-2-3dfef6adaeb74c748516d44630a423c7@tactical-stealth-squad.de
ORGANIZER;CN="brainslush":info@tactical-stealth-squad.de
DESCRIPTION:\n	Offenes Training\n
DTSTART:20180517T200000Z
DTEND:20180517T223000Z
ATTENDEE;CN="brainslush";CUTYPE=INDIVIDUAL;PARTSTAT=ACCEPTED
	:info@tactical-stealth-squad.de
END:VEVENT
BEGIN:VEVENT
SUMMARY:BCT 4
DTSTAMP:20170405T211343Z
SEQUENCE:0
UID:490-2-3dfef6adaeb74c748516d44630a423c7@tactical-stealth-squad.de
ORGANIZER;CN="MacChronik":info@tactical-stealth-squad.de
DESCRIPTION:\nAchtung\, brauche noch zwei Mann Lagepersonal\, bitte via 
	PM bei Mac melden.\n
DTSTART:20170409T143000Z
DTEND:20170409T180000Z
ATTENDEE;CN="MacChronik";CUTYPE=INDIVIDUAL;PARTSTAT=ACCEPTED
	:info@tactical-stealth-squad.de
ATTENDEE;CN="joker7";CUTYPE=INDIVIDUAL;PARTSTAT=ACCEPTED:inf
	o@tactical-stealth-squad.de
ATTENDEE;CN="Blackhawk";CUTYPE=INDIVIDUAL;PARTSTAT=ACCEPTED:
	info@tactical-stealth-squad.de
END:VEVENT
BEGIN:VEVENT
SUMMARY:BCT 2 - Advanced Infantry Course
DTSTAMP:20170326T200905Z
SEQUENCE:0
UID:482-2-3dfef6adaeb74c748516d44630a423c7@tactical-stealth-squad.de
ORGANIZER;CN="MacChronik":info@tactical-stealth-squad.de
DESCRIPTION:\nggf. plus  BCT 3\n
DTSTART:20170405T173000Z
DTEND:20170405T210000Z
ATTENDEE;CN="MacChronik";CUTYPE=INDIVIDUAL;PARTSTAT=ACCEPTED
	:info@tactical-stealth-squad.de
ATTENDEE;CN="joker7";CUTYPE=INDIVIDUAL;PARTSTAT=ACCEPTED:inf
	o@tactical-stealth-squad.de
ATTENDEE;CN="Blackhawk";CUTYPE=INDIVIDUAL;PARTSTAT=ACCEPTED:
	info@tactical-stealth-squad.de
END:VEVENT
BEGIN:VEVENT
SUMMARY:BCT 2
DTSTAMP:20160913T090821Z
SEQUENCE:0
UID:386-2-3dfef6adaeb74c748516d44630a423c7@tactical-stealth-squad.de
ORGANIZER;CN="gHoSt":info@tactical-stealth-squad.de
DESCRIPTION:\nBCT 2\n\nInhalte: Überprüfen Inhalte BCT 1\, Das Firetea
	m auf dem Gefechtsfeld\, Feuer und Bewegung\, Grundlagen Navigation\, MG´
	s und AT\n\nAn- bzw. Abmeldung  für alle Rekruten verpflichtend bis Frei
	tag 12 Uhr.\nSoldaten mit Nachholbedarf und Interesse sind willkommen.\n\n
	Ausbilder : Bulldog\, gHoSt\n\nOrt: Trainingsserver 2\n
DTSTART:20160916T170000Z
DTEND:20160916T200000Z
ATTENDEE;CN="gHoSt";CUTYPE=INDIVIDUAL;PARTSTAT=ACCEPTED:info
	@tactical-stealth-squad.de
ATTENDEE;CN="Borag";CUTYPE=INDIVIDUAL;PARTSTAT=ACCEPTED:info
	@tactical-stealth-squad.de
ATTENDEE;CN="Bulldog";CUTYPE=INDIVIDUAL;PARTSTAT=ACCEPTED:in
	fo@tactical-stealth-squad.de
ATTENDEE;CN="HeavyMetall";CUTYPE=INDIVIDUAL;PARTSTAT=ACCEPTE
	D:info@tactical-stealth-squad.de
ATTENDEE;CN="Wolf";CUTYPE=INDIVIDUAL;PARTSTAT=ACCEPTED:info@
	tactical-stealth-squad.de
ATTENDEE;CN="Sylvia";CUTYPE=INDIVIDUAL;PARTSTAT=ACCEPTED:inf
	o@tactical-stealth-squad.de
END:VEVENT
BEGIN:VEVENT
SUMMARY:BCT 1
DTSTAMP:20160906T125803Z
SEQUENCE:0
UID:381-2-3dfef6adaeb74c748516d44630a423c7@tactical-stealth-squad.de
ORGANIZER;CN="gHoSt":info@tactical-stealth-squad.de
DESCRIPTION:\nAnmeldung bis Donnerstag 12 Uhr\nMindestteilnehmerzahl: 3
	 Rekruten / Soldaten mit Interesse\nAusbilder: gHoSt\, Wolf\n
DTSTART:20160908T170000Z
DTEND:20160907T220000Z
ATTENDEE;CN="gHoSt";CUTYPE=INDIVIDUAL;PARTSTAT=ACCEPTED:info
	@tactical-stealth-squad.de
ATTENDEE;CN="HeavyMetall";CUTYPE=INDIVIDUAL;PARTSTAT=ACCEPTE
	D:info@tactical-stealth-squad.de
ATTENDEE;CN="Wolf";CUTYPE=INDIVIDUAL;PARTSTAT=ACCEPTED:info@
	tactical-stealth-squad.de
ATTENDEE;CN="Borag";CUTYPE=INDIVIDUAL;PARTSTAT=ACCEPTED:info
	@tactical-stealth-squad.de
END:VEVENT
BEGIN:VEVENT
SUMMARY:BCT 3
DTSTAMP:20160227T215245Z
SEQUENCE:0
UID:247-2-3dfef6adaeb74c748516d44630a423c7@tactical-stealth-squad.de
ORGANIZER;CN="Krevol":info@tactical-stealth-squad.de
DESCRIPTION:\nBCT 3 \n18:00 Uhr\n
DTSTART:20160228T170000Z
DTEND:20160228T220000Z
ATTENDEE;CN="Wolf";CUTYPE=INDIVIDUAL;PARTSTAT=ACCEPTED:info@
	tactical-stealth-squad.de
ATTENDEE;CN="Bulowo";CUTYPE=INDIVIDUAL;PARTSTAT=ACCEPTED:inf
	o@tactical-stealth-squad.de
END:VEVENT
BEGIN:VEVENT
SUMMARY:BCT 2
DTSTAMP:20160204T165048Z
SEQUENCE:0
UID:222-2-3dfef6adaeb74c748516d44630a423c7@tactical-stealth-squad.de
ORGANIZER;CN="Krevol":info@tactical-stealth-squad.de
DESCRIPTION:\nAnmeldungen bitte ebenfalls hier http://tactical-stealth-s
	quad.de/forums/topic/469-05feb-1930-bct-2-advanced-infantry-course/\n
DTSTART:20160205T183000Z
DTEND:20160205T213000Z
ATTENDEE;CN="MiLeS";CUTYPE=INDIVIDUAL;PARTSTAT=ACCEPTED:info
	@tactical-stealth-squad.de
ATTENDEE;CN="Krevol";CUTYPE=INDIVIDUAL;PARTSTAT=ACCEPTED:inf
	o@tactical-stealth-squad.de
ATTENDEE;CN="Hugo";CUTYPE=INDIVIDUAL;PARTSTAT=ACCEPTED:info@
	tactical-stealth-squad.de
ATTENDEE;CN="Bulowo";CUTYPE=INDIVIDUAL;PARTSTAT=ACCEPTED:inf
	o@tactical-stealth-squad.de
END:VEVENT
BEGIN:VEVENT
SUMMARY:[13.01.16 - 19:30] BCT1 - Basic Infantry Course
DTSTAMP:20160107T181551Z
SEQUENCE:0
UID:196-2-3dfef6adaeb74c748516d44630a423c7@tactical-stealth-squad.de
ORGANIZER;CN="Wolf":info@tactical-stealth-squad.de
DESCRIPTION:\n [13.01.16 - 19:30] BCT1 - Basic Infantry Course\n
DTSTART:20160113T183000Z
DTEND:20160113T213000Z
END:VEVENT
BEGIN:VEVENT
SUMMARY:BCT 4
DTSTAMP:20151215T145741Z
SEQUENCE:0
UID:184-2-3dfef6adaeb74c748516d44630a423c7@tactical-stealth-squad.de
ORGANIZER;CN="MacChronik":info@tactical-stealth-squad.de
DESCRIPTION:\nTrainingsserver #1\n
DTSTART:20151216T184500Z
DTEND:20151215T230000Z
END:VEVENT
BEGIN:VEVENT
SUMMARY:BCT 3
DTSTAMP:20151203T215712Z
SEQUENCE:0
UID:179-2-3dfef6adaeb74c748516d44630a423c7@tactical-stealth-squad.de
ORGANIZER;CN="MacChronik":info@tactical-stealth-squad.de
DESCRIPTION:\nTrainingsserver #1\n
DTSTART:20151204T183000Z
DTEND:20151203T230000Z
END:VEVENT
BEGIN:VEVENT
SUMMARY:[11.Nov - 1930] BCT 2 - Advanced Infantry Course
DTSTAMP:20151105T172638Z
SEQUENCE:0
UID:154-2-3dfef6adaeb74c748516d44630a423c7@tactical-stealth-squad.de
ORGANIZER;CN="Wolf":info@tactical-stealth-squad.de
DESCRIPTION:\n[11.Nov - 1930] BCT 2 - Advanced Infantry Course\n
DTSTART:20151111T183000Z
DTEND:20151111T213000Z
END:VEVENT
BEGIN:VEVENT
SUMMARY:BCT1 - Basic Infantry Course
DTSTAMP:20151030T152359Z
SEQUENCE:0
UID:145-2-3dfef6adaeb74c748516d44630a423c7@tactical-stealth-squad.de
ORGANIZER;CN="MacChronik":info@tactical-stealth-squad.de
DESCRIPTION:\nBCT1 - Basic Infantry Course - Trainingsserver #1Meldet Eu
	ch hier im Kalender an!\n
DTSTART:20151104T183000Z
DTEND:20151103T230000Z
ATTENDEE;CN="MarkusA380";CUTYPE=INDIVIDUAL;PARTSTAT=ACCEPTED
	:info@tactical-stealth-squad.de
ATTENDEE;CN="MacChronik";CUTYPE=INDIVIDUAL;PARTSTAT=ACCEPTED
	:info@tactical-stealth-squad.de
ATTENDEE;CN="Cring";CUTYPE=INDIVIDUAL;PARTSTAT=ACCEPTED:info
	@tactical-stealth-squad.de
ATTENDEE;CN="Blueshift";CUTYPE=INDIVIDUAL;PARTSTAT=ACCEPTED:
	info@tactical-stealth-squad.de
END:VEVENT
BEGIN:VEVENT
SUMMARY:BCT 4 - The Crucible
DTSTAMP:20150924T130556Z
SEQUENCE:0
UID:105-2-3dfef6adaeb74c748516d44630a423c7@tactical-stealth-squad.de
ORGANIZER;CN="gHoSt":info@tactical-stealth-squad.de
DESCRIPTION:\nhttp://tactical-stealth-squad.de/forums/topic/343-26-septe
	mber-1800-bct-4-the-crucible/\n
DTSTART:20150926T160000Z
DTEND:20150926T200000Z
ATTENDEE;CN="gHoSt";CUTYPE=INDIVIDUAL;PARTSTAT=ACCEPTED:info
	@tactical-stealth-squad.de
ATTENDEE;CN="masterT00L";CUTYPE=INDIVIDUAL;PARTSTAT=ACCEPTED
	:info@tactical-stealth-squad.de
ATTENDEE;CN="Bleifrosch";CUTYPE=INDIVIDUAL;PARTSTAT=ACCEPTED
	:info@tactical-stealth-squad.de
ATTENDEE;CN="zinki";CUTYPE=INDIVIDUAL;PARTSTAT=ACCEPTED:info
	@tactical-stealth-squad.de
END:VEVENT
BEGIN:VEVENT
SUMMARY:[02.Sep - 1930] BCT 3 - Special Infantry Course
DTSTAMP:20150827T122630Z
SEQUENCE:0
UID:82-2-3dfef6adaeb74c748516d44630a423c7@tactical-stealth-squad.de
ORGANIZER;CN="Wolf":info@tactical-stealth-squad.de
DESCRIPTION:\n\n\n\n\n\n\n\n\n\n [02.Sep - 1930] BCT 3 - Special Infant
	ry Course\n
DTSTART:20150902T173000Z
DTEND:20150902T203000Z
END:VEVENT
BEGIN:VEVENT
SUMMARY:[19.Aug. - 1930] BCT 2 - Advanced Infantry Course
DTSTAMP:20150815T132212Z
SEQUENCE:0
UID:73-2-3dfef6adaeb74c748516d44630a423c7@tactical-stealth-squad.de
ORGANIZER;CN="Wolf":info@tactical-stealth-squad.de
DESCRIPTION:\n[19.Aug. - 1930] BCT 2 - Advanced Infantry Course\n\n \n
DTSTART:20150819T173000Z
DTEND:20150819T203000Z
END:VEVENT
BEGIN:VEVENT
SUMMARY:[26.Juli - 1600] BCT 4 - The Crucible
DTSTAMP:20150722T151813Z
SEQUENCE:0
UID:58-2-3dfef6adaeb74c748516d44630a423c7@tactical-stealth-squad.de
ORGANIZER;CN="Wolf":info@tactical-stealth-squad.de
DESCRIPTION:\n[26.Juli - 1600] BCT 4 - The Crucible\n
DTSTART:20150726T140000Z
DTEND:20150726T190000Z
END:VEVENT
BEGIN:VEVENT
SUMMARY:[08.Juli - 1930] BCT 3 - Special Infantry Course
DTSTAMP:20150706T163146Z
SEQUENCE:0
UID:43-2-3dfef6adaeb74c748516d44630a423c7@tactical-stealth-squad.de
ORGANIZER;CN="Wolf":info@tactical-stealth-squad.de
DESCRIPTION:\n[08.Juli - 1930] BCT 3 - Special Infantry Cours\n
DTSTART:20150708T173000Z
DTEND:20150708T203000Z
END:VEVENT
BEGIN:VEVENT
SUMMARY:[24.Juni - 1930] BCT 2 - Advanced Infantry Course
DTSTAMP:20150617T160240Z
SEQUENCE:0
UID:32-2-3dfef6adaeb74c748516d44630a423c7@tactical-stealth-squad.de
ORGANIZER;CN="Wolf":info@tactical-stealth-squad.de
DESCRIPTION:\n[24.Juni - 1930] BCT 2 - Advanced Infantry Course\n
DTSTART:20150624T173000Z
DTEND:20150624T083000Z
END:VEVENT
BEGIN:VEVENT
SUMMARY:[06.Juni - 1700] BCT 4 - The Crucible
DTSTAMP:20150530T171334Z
SEQUENCE:0
UID:23-2-3dfef6adaeb74c748516d44630a423c7@tactical-stealth-squad.de
ORGANIZER;CN="Wolf":info@tactical-stealth-squad.de
DESCRIPTION:\n[06.Juni - 1700] BCT 4 - The Crucible\n
DTSTART:20150606T150000Z
DTEND:20150606T213000Z
END:VEVENT
BEGIN:VEVENT
SUMMARY:BCT-4 The Crucible
DTSTAMP:20150527T211036Z
SEQUENCE:0
UID:21-2-3dfef6adaeb74c748516d44630a423c7@tactical-stealth-squad.de
ORGANIZER;CN="Wolf":info@tactical-stealth-squad.de
DESCRIPTION:\nBCT-4 The Crucible\n
DTSTART:20150530T150000Z
DTEND:20150530T210000Z
END:VEVENT
BEGIN:VEVENT
SUMMARY:BCT-3 Special Infantry Course
DTSTAMP:20150522T163349Z
SEQUENCE:0
UID:17-2-3dfef6adaeb74c748516d44630a423c7@tactical-stealth-squad.de
ORGANIZER;CN="Wolf":info@tactical-stealth-squad.de
DESCRIPTION:\n\n\nBCT-3 Special Infantry Course\n\n\n\n \n
DTSTART:20150527T173000Z
DTEND:20150527T210000Z
END:VEVENT
BEGIN:VEVENT
SUMMARY:BCT2 -Advanced Infantry Course
DTSTAMP:20150517T150139Z
SEQUENCE:0
UID:10-2-3dfef6adaeb74c748516d44630a423c7@tactical-stealth-squad.de
ORGANIZER;CN="Wolf":info@tactical-stealth-squad.de
DESCRIPTION:\nBCT2 -Advanced Infantry Course\n
DTSTART:20150520T173000Z
DTEND:20150520T210000Z
END:VEVENT
BEGIN:VEVENT
SUMMARY:Basic Infantry Course
DTSTAMP:20150507T124702Z
SEQUENCE:0
UID:5-2-3dfef6adaeb74c748516d44630a423c7@tactical-stealth-squad.de
ORGANIZER;CN="NemesisoD":info@tactical-stealth-squad.de
DESCRIPTION:\nBasic Infantry Course\n\nWann: 13. Mai - 1930\nAlternativ 
	Termin: 14. Mai - 1930\nWo: Trainingsserver #1\nInhalte:\n- Inventar\n- Be
	wegungsformen &amp\; Haltungen\n- Waffenkunde\n- Granateneinweisung &amp\;
	 Bedienung\n- Positionsbestimmung\n
DTSTART:20150513T173000Z
DTEND:20150513T213000Z
ATTENDEE;CN="NemesisoD";CUTYPE=INDIVIDUAL;PARTSTAT=ACCEPTED:
	info@tactical-stealth-squad.de
ATTENDEE;CN="Thorre";CUTYPE=INDIVIDUAL;PARTSTAT=ACCEPTED:inf
	o@tactical-stealth-squad.de
END:VEVENT
BEGIN:VEVENT
SUMMARY:Basic Combat Training 4 - The Crucible
DTSTAMP:20150503T145428Z
SEQUENCE:0
UID:2-2-3dfef6adaeb74c748516d44630a423c7@tactical-stealth-squad.de
ORGANIZER;CN="NemesisoD":info@tactical-stealth-squad.de
DESCRIPTION:\nInhalte:- Praktische PrüfungDer Ausbildungsabschnitt stel
	lt eine Abschlussprüfung dar\, in welchem der Rekrut sein erlerntes anwen
	den muss.\n
DTSTART:20150506T170000Z
DTEND:20150506T210000Z
ATTENDEE;CN="NemesisoD";CUTYPE=INDIVIDUAL;PARTSTAT=ACCEPTED:
	info@tactical-stealth-squad.de
END:VEVENT
END:VCALENDAR
