BEGIN:VCALENDAR
VERSION:2.0
PRODID:-//IP.Board Calendar 4.3.6//EN
METHOD:PUBLISH
CALSCALE:GREGORIAN
BEGIN:VTIMEZONE
TZID:Europe/London
TZURL:http://tzurl.org/zoneinfo/Europe/London
X-LIC-LOCATION:Europe/London
BEGIN:DAYLIGHT
TZOFFSETFROM:+0000
TZOFFSETTO:+0100
TZNAME:BST
DTSTART:20200329T020000Z
RRULE:FREQ=YEARLY;BYMONTH=3;BYDAY=-1SU
END:DAYLIGHT
BEGIN:STANDARD
TZOFFSETFROM:+0100
TZOFFSETTO:+0000
TZNAME:GMT
DTSTART:20201025T020000Z
RRULE:FREQ=YEARLY;BYMONTH=10;BYDAY=-1SU
END:STANDARD
END:VTIMEZONE
BEGIN:VTIMEZONE
TZID:Europe/London
TZURL:http://tzurl.org/zoneinfo/Europe/London
X-LIC-LOCATION:Europe/London
BEGIN:DAYLIGHT
TZOFFSETFROM:+0000
TZOFFSETTO:+0100
TZNAME:BST
DTSTART:20190331T020000Z
RRULE:FREQ=YEARLY;BYMONTH=3;BYDAY=-1SU
END:DAYLIGHT
BEGIN:STANDARD
TZOFFSETFROM:+0100
TZOFFSETTO:+0000
TZNAME:GMT
DTSTART:20191027T020000Z
RRULE:FREQ=YEARLY;BYMONTH=10;BYDAY=-1SU
END:STANDARD
END:VTIMEZONE
BEGIN:VTIMEZONE
TZID:Europe/London
TZURL:http://tzurl.org/zoneinfo/Europe/London
X-LIC-LOCATION:Europe/London
BEGIN:DAYLIGHT
TZOFFSETFROM:+0000
TZOFFSETTO:+0100
TZNAME:BST
DTSTART:20180325T020000Z
RRULE:FREQ=YEARLY;BYMONTH=3;BYDAY=-1SU
END:DAYLIGHT
BEGIN:STANDARD
TZOFFSETFROM:+0100
TZOFFSETTO:+0000
TZNAME:GMT
DTSTART:20181028T020000Z
RRULE:FREQ=YEARLY;BYMONTH=10;BYDAY=-1SU
END:STANDARD
END:VTIMEZONE
BEGIN:VTIMEZONE
TZID:Europe/London
TZURL:http://tzurl.org/zoneinfo/Europe/London
X-LIC-LOCATION:Europe/London
BEGIN:DAYLIGHT
TZOFFSETFROM:+0000
TZOFFSETTO:+0100
TZNAME:BST
DTSTART:20170326T020000Z
RRULE:FREQ=YEARLY;BYMONTH=3;BYDAY=-1SU
END:DAYLIGHT
BEGIN:STANDARD
TZOFFSETFROM:+0100
TZOFFSETTO:+0000
TZNAME:GMT
DTSTART:20171029T020000Z
RRULE:FREQ=YEARLY;BYMONTH=10;BYDAY=-1SU
END:STANDARD
END:VTIMEZONE
BEGIN:VEVENT
SUMMARY:Ausbildungsangebot: Forward Observer
DTSTAMP:20200721T113720Z
SEQUENCE:0
UID:878-7-3dfef6adaeb74c748516d44630a423c7@tactical-stealth-squad.de
ORGANIZER;CN="joker7":info@tactical-stealth-squad.de
DESCRIPTION:\n\n	Ausbildungsangebot: Forward Observer (Artillery)\n\n\n\
	n	Ausbilder: joker7\n\n\n\n	Inhalt:\n\n\n\n		Erweiterter Umgang mit den 
	nötigen/ möglichen Geräten\n	\n	\n		Erweiterte Aufklärung\n	\n	\n		Ko
	mmunikation für Feuerunterstützung (Artillery)\n	\n\n	 \n\n\n\n	Um ein
	 pünktliches und vorbereitetes Erscheinen (Tech Check) wird gebeten.\n\n
DTSTART:20200727T170000Z
DTEND:20200727T180000Z
ATTENDEE;CN="joker7";CUTYPE=INDIVIDUAL;PARTSTAT=ACCEPTED:inf
	o@tactical-stealth-squad.de
ATTENDEE;CN="HeavyMetall";CUTYPE=INDIVIDUAL;PARTSTAT=ACCEPTE
	D:info@tactical-stealth-squad.de
END:VEVENT
BEGIN:VEVENT
SUMMARY:Ausbildungsangebot: Forward Observer (Artillery)
DTSTAMP:20200703T095010Z
SEQUENCE:0
UID:877-7-3dfef6adaeb74c748516d44630a423c7@tactical-stealth-squad.de
ORGANIZER;CN="joker7":info@tactical-stealth-squad.de
DESCRIPTION:\n\n	Ausbildungsangebot: Forward Observer (Artillery)\n\n\n\
	n	Ausbilder: joker7\n\n\n\n	Inhalt: \n\n\n\n		Erweiterter Umgang mit den n
	ötigen/ möglichen Geräten\n	\n	\n		Erweiterte Aufklärung\n	\n	\n		Kom
	munikation für Feuerunterstützung (Artillery)\n	\n\n	 \n\n\n\n	Um ein 
	pünktliches und vorbereitetes Erscheinen (Tech Check) wird gebeten.\n\n
DTSTART:20200713T170000Z
DTEND:20200713T180000Z
ATTENDEE;CN="joker7";CUTYPE=INDIVIDUAL;PARTSTAT=ACCEPTED:inf
	o@tactical-stealth-squad.de
END:VEVENT
BEGIN:VEVENT
SUMMARY:ACT Medic ACE 3.13.0
DTSTAMP:20200308T123719Z
SEQUENCE:0
UID:840-7-3dfef6adaeb74c748516d44630a423c7@tactical-stealth-squad.de
ORGANIZER;CN="joker7":info@tactical-stealth-squad.de
DESCRIPTION:\n	Dieses Training behandelt hauptsächlich die neuen Einste
	llungen des letzten Ace Updates und wiederholt die üblichen Behandlungen.
	\n
DTSTART:20200312T180000Z
DTEND:20200312T190000Z
ATTENDEE;CN="joker7";CUTYPE=INDIVIDUAL;PARTSTAT=ACCEPTED:inf
	o@tactical-stealth-squad.de
ATTENDEE;CN="zinki";CUTYPE=INDIVIDUAL;PARTSTAT=ACCEPTED:info
	@tactical-stealth-squad.de
END:VEVENT
BEGIN:VEVENT
SUMMARY:ACT Medic ACE CPR/ KAT
DTSTAMP:20191210T091803Z
SEQUENCE:0
UID:812-7-3dfef6adaeb74c748516d44630a423c7@tactical-stealth-squad.de
ORGANIZER;CN="joker7":info@tactical-stealth-squad.de
DESCRIPTION:\n\n	ACT Medic: Ausbildung für ACE CPR und KAT\n\n\n\n	Ausb
	ilder: joker7\n\n\n\n	Inhalt:\n\n	Wissensabfrage/ abgleich\n\n	Neuerungen 
	des Medicsystems\n\n	Theoretische Ausbildung\n\n	MIST-Report\n\n	Praktisch
	e Übungen\n\n\n	Ausbildung für einzelne Mitglieder möglich\, wenn gew
	ünscht.\n\n	Bitte mich direkt darauf ansprechen.\n\n
DTSTART:20191218T170000Z
DTEND:20191218T183000Z
ATTENDEE;CN="joker7";CUTYPE=INDIVIDUAL;PARTSTAT=ACCEPTED:inf
	o@tactical-stealth-squad.de
END:VEVENT
BEGIN:VEVENT
SUMMARY:ACT Medic ACE CPR/ KAT
DTSTAMP:20191210T091343Z
SEQUENCE:0
UID:810-7-3dfef6adaeb74c748516d44630a423c7@tactical-stealth-squad.de
ORGANIZER;CN="joker7":info@tactical-stealth-squad.de
DESCRIPTION:\n\n	ACT Medic: Ausbildung für ACE CPR und KAT\n\n\n\n	Ausb
	ilder: joker7\n\n\n\n	Inhalt:\n\n	Wissensabfrage/ abgleich\n\n	Neuerungen 
	des Medicsystems\n\n	Theoretische Ausbildung\n\n	MIST-Report\n\n	Praktisch
	e Übungen\n\n\n	Ausbildung für einzelne Mitglieder möglich\, wenn gew
	ünscht.\n\n	Bitte mich direkt darauf ansprechen.\n\n
DTSTART:20191212T180000Z
DTEND:20191212T193000Z
ATTENDEE;CN="joker7";CUTYPE=INDIVIDUAL;PARTSTAT=ACCEPTED:inf
	o@tactical-stealth-squad.de
END:VEVENT
BEGIN:VEVENT
SUMMARY:ACT Medic ACE CPR/ KAT
DTSTAMP:20191210T091309Z
SEQUENCE:0
UID:809-7-3dfef6adaeb74c748516d44630a423c7@tactical-stealth-squad.de
ORGANIZER;CN="joker7":info@tactical-stealth-squad.de
DESCRIPTION:\n\n	ACT Medic: Ausbildung für ACE CPR und KAT\n\n\n\n	Ausb
	ilder: joker7\n\n\n\n	Inhalt:\n\n	Wissensabfrage/ abgleich\n\n	Neuerungen 
	des Medicsystems\n\n	Theoretische Ausbildung\n\n	MIST-Report\n\n	Praktisch
	e Übungen\n\n\n	Ausbildung für einzelne Mitglieder möglich\, wenn gew
	ünscht.\n\n	Bitte mich direkt darauf ansprechen.\n\n
DTSTART:20191211T180000Z
DTEND:20191211T193000Z
ATTENDEE;CN="joker7";CUTYPE=INDIVIDUAL;PARTSTAT=ACCEPTED:inf
	o@tactical-stealth-squad.de
ATTENDEE;CN="zinki";CUTYPE=INDIVIDUAL;PARTSTAT=ACCEPTED:info
	@tactical-stealth-squad.de
END:VEVENT
BEGIN:VEVENT
SUMMARY:ACT Medic ACE CPR/ KAT
DTSTAMP:20191210T091412Z
SEQUENCE:0
UID:811-7-3dfef6adaeb74c748516d44630a423c7@tactical-stealth-squad.de
ORGANIZER;CN="joker7":info@tactical-stealth-squad.de
DESCRIPTION:\n\n	ACT Medic: Ausbildung für ACE CPR und KAT\n\n\n\n	Ausb
	ilder: joker7\n\n\n\n	Inhalt:\n\n	Wissensabfrage/ abgleich\n\n	Neuerungen 
	des Medicsystems\n\n	Theoretische Ausbildung\n\n	MIST-Report\n\n	Praktisch
	e Übungen\n\n\n	Ausbildung für einzelne Mitglieder möglich\, wenn gew
	ünscht.\n\n	Bitte mich direkt darauf ansprechen.\n\n
DTSTART:20191217T180000Z
DTEND:20191217T193000Z
ATTENDEE;CN="joker7";CUTYPE=INDIVIDUAL;PARTSTAT=ACCEPTED:inf
	o@tactical-stealth-squad.de
END:VEVENT
BEGIN:VEVENT
SUMMARY:ACT Medic ACE CPR/ KAT
DTSTAMP:20191210T091826Z
SEQUENCE:0
UID:813-7-3dfef6adaeb74c748516d44630a423c7@tactical-stealth-squad.de
ORGANIZER;CN="joker7":info@tactical-stealth-squad.de
DESCRIPTION:\n\n	ACT Medic: Ausbildung für ACE CPR und KAT\n\n\n\n	Ausb
	ilder: joker7\n\n\n\n	Inhalt:\n\n	Wissensabfrage/ abgleich\n\n	Neuerungen 
	des Medicsystems\n\n	Theoretische Ausbildung\n\n	MIST-Report\n\n	Praktisch
	e Übungen\n\n\n	Ausbildung für einzelne Mitglieder möglich\, wenn gew
	ünscht.\n\n	Bitte mich direkt darauf ansprechen.\n\n
DTSTART:20191219T180000Z
DTEND:20191219T193000Z
ATTENDEE;CN="joker7";CUTYPE=INDIVIDUAL;PARTSTAT=ACCEPTED:inf
	o@tactical-stealth-squad.de
END:VEVENT
BEGIN:VEVENT
SUMMARY:Öffentliches Training ECAS
DTSTAMP:20191010T055702Z
SEQUENCE:0
UID:797-7-3dfef6adaeb74c748516d44630a423c7@tactical-stealth-squad.de
ORGANIZER;CN="joker7":info@tactical-stealth-squad.de
DESCRIPTION:\n\n	Ausbilder: joker7/ Blackhawk\n\n\n\n	Themen:\n\n\n\n	1.
	 ECAS\n\n\n\n	2. Fast Rope + PickUp\n\n\n\n	3. MedEvac (Optional)\n\n
DTSTART:20191017T160000Z
DTEND:20191017T183000Z
ATTENDEE;CN="joker7";CUTYPE=INDIVIDUAL;PARTSTAT=ACCEPTED:inf
	o@tactical-stealth-squad.de
ATTENDEE;CN="Blackhawk";CUTYPE=INDIVIDUAL;PARTSTAT=ACCEPTED:
	info@tactical-stealth-squad.de
END:VEVENT
BEGIN:VEVENT
SUMMARY:Infanterie Training mit kurzer Mission
DTSTAMP:20180501T075318Z
SEQUENCE:0
UID:669-7-3dfef6adaeb74c748516d44630a423c7@tactical-stealth-squad.de
ORGANIZER;CN="brainslush":info@tactical-stealth-squad.de
DESCRIPTION:\n\n	Für alle offen.\n\n\n\n	Geplant ist eine Wiederholung 
	der Theorie sowie der Praxis des Handstreichs mit einer darauf folgenden k
	urzen Mission\, wo das gelernte angewendet wird\n\n
DTSTART:20180510T200000Z
DTEND:20180510T223000Z
ATTENDEE;CN="brainslush";CUTYPE=INDIVIDUAL;PARTSTAT=ACCEPTED
	:info@tactical-stealth-squad.de
ATTENDEE;CN="joker7";CUTYPE=INDIVIDUAL;PARTSTAT=ACCEPTED:inf
	o@tactical-stealth-squad.de
ATTENDEE;CN="masterT00L";CUTYPE=INDIVIDUAL;PARTSTAT=ACCEPTED
	:info@tactical-stealth-squad.de
END:VEVENT
BEGIN:VEVENT
SUMMARY:Öffentliches CAS Training
DTSTAMP:20180306T231250Z
SEQUENCE:0
UID:626-7-3dfef6adaeb74c748516d44630a423c7@tactical-stealth-squad.de
ORGANIZER;CN="Julius.":info@tactical-stealth-squad.de
DESCRIPTION:\nÖffentliches CAS Training\n
DTSTART:20180313T180000Z
DTEND:20180313T220000Z
ATTENDEE;CN="Julius.";CUTYPE=INDIVIDUAL;PARTSTAT=ACCEPTED:in
	fo@tactical-stealth-squad.de
ATTENDEE;CN="brainslush";CUTYPE=INDIVIDUAL;PARTSTAT=ACCEPTED
	:info@tactical-stealth-squad.de
END:VEVENT
BEGIN:VEVENT
SUMMARY:Öffentliches CAS Training
DTSTAMP:20180306T223627Z
SEQUENCE:0
UID:625-7-3dfef6adaeb74c748516d44630a423c7@tactical-stealth-squad.de
ORGANIZER;CN="Julius.":info@tactical-stealth-squad.de
DESCRIPTION:\nÖffentliches CAS Training\n
DTSTART:20180308T180000Z
DTEND:20180308T220000Z
ATTENDEE;CN="Julius.";CUTYPE=INDIVIDUAL;PARTSTAT=ACCEPTED:in
	fo@tactical-stealth-squad.de
ATTENDEE;CN="Bleifrosch";CUTYPE=INDIVIDUAL;PARTSTAT=ACCEPTED
	:info@tactical-stealth-squad.de
END:VEVENT
BEGIN:VEVENT
SUMMARY:Öffentliches Training Logistik
DTSTAMP:20180203T143853Z
SEQUENCE:0
UID:610-7-3dfef6adaeb74c748516d44630a423c7@tactical-stealth-squad.de
ORGANIZER;CN="joker7":info@tactical-stealth-squad.de
DESCRIPTION:\n\n
DTSTART:20180211T180000Z
DTEND:20180211T213000Z
ATTENDEE;CN="joker7";CUTYPE=INDIVIDUAL;PARTSTAT=ACCEPTED:inf
	o@tactical-stealth-squad.de
ATTENDEE;CN="Julius.";CUTYPE=INDIVIDUAL;PARTSTAT=ACCEPTED:in
	fo@tactical-stealth-squad.de
ATTENDEE;CN="Alcatron";CUTYPE=INDIVIDUAL;PARTSTAT=ACCEPTED:i
	nfo@tactical-stealth-squad.de
END:VEVENT
BEGIN:VEVENT
SUMMARY:Offensichtliches CAS Training
DTSTAMP:20180110T110704Z
SEQUENCE:0
UID:599-7-3dfef6adaeb74c748516d44630a423c7@tactical-stealth-squad.de
ORGANIZER;CN="Julius.":info@tactical-stealth-squad.de
DESCRIPTION:\nTrainiert/ besprochen und verfeinert werden die Neuerung i
	m CAS-System\n
DTSTART:20180110T170000Z
DTEND:20180110T220000Z
ATTENDEE;CN="Julius.";CUTYPE=INDIVIDUAL;PARTSTAT=ACCEPTED:in
	fo@tactical-stealth-squad.de
ATTENDEE;CN="Blackhawk";CUTYPE=INDIVIDUAL;PARTSTAT=ACCEPTED:
	info@tactical-stealth-squad.de
END:VEVENT
BEGIN:VEVENT
SUMMARY:ACT Medic I Gruppe 2
DTSTAMP:20171130T221156Z
SEQUENCE:0
UID:586-7-3dfef6adaeb74c748516d44630a423c7@tactical-stealth-squad.de
ORGANIZER;CN="joker7":info@tactical-stealth-squad.de
DESCRIPTION:\nACT Medic I\n\n\n\nAusbildungsleiter: joker7/ MacChronik\
	nGruppe 2 Teilnehmer:\n- Blackhawk\n- NBRC_Fox\n- Hugo\n\n\nInhalte:\n- A
	CE 3 Medical System- Medizinische Rollen und deren Fähigkeiten beim TSS-
	 Zur Verfügung stehendes Material\, dessen Gebrauch und Wirkung- Tabellen
	\, Daten und Fakten- 7-Liner- Selbstbehandlung\n
DTSTART:20171220T190000Z
DTEND:20171220T213000Z
END:VEVENT
BEGIN:VEVENT
SUMMARY:ACT Medic I Gruppe 1
DTSTAMP:20171130T221009Z
SEQUENCE:0
UID:585-7-3dfef6adaeb74c748516d44630a423c7@tactical-stealth-squad.de
ORGANIZER;CN="joker7":info@tactical-stealth-squad.de
DESCRIPTION:\nACT Medic I\n\n\n\nAusbildungsleiter: joker7/ MacChronik\n
	Gruppe 1 Teilnehmer:\n- HeavyMetall\n- Brainslush\n- MacChronik\n- Natas\n
	- masterT00L\n\nInhalte:\n- ACE 3 Medical System- Medizinische Rollen und 
	deren Fähigkeiten beim TSS- Zur Verfügung stehendes Material\, dessen G
	ebrauch und Wirkung- Tabellen\, Daten und Fakten- 7-Liner- Selbstbehandlun
	g\n
DTSTART:20171207T190000Z
DTEND:20171207T213000Z
END:VEVENT
BEGIN:VEVENT
SUMMARY:Öffentliches UAT Training Praxis
DTSTAMP:20171116T191914Z
SEQUENCE:0
UID:578-7-3dfef6adaeb74c748516d44630a423c7@tactical-stealth-squad.de
ORGANIZER;CN="MacChronik":info@tactical-stealth-squad.de
DESCRIPTION:\nUrbane Angriffs Techniken - Häuserkampf Training\n\nVorau
	ssetzung ist die vorherige Teilnahme an den Aufbautrainings.\n
DTSTART:20171123T190000Z
DTEND:20171123T213000Z
ATTENDEE;CN="MacChronik";CUTYPE=INDIVIDUAL;PARTSTAT=ACCEPTED
	:info@tactical-stealth-squad.de
ATTENDEE;CN="Cring";CUTYPE=INDIVIDUAL;PARTSTAT=ACCEPTED:info
	@tactical-stealth-squad.de
ATTENDEE;CN="joker7";CUTYPE=INDIVIDUAL;PARTSTAT=ACCEPTED:inf
	o@tactical-stealth-squad.de
ATTENDEE;CN="Natas";CUTYPE=INDIVIDUAL;PARTSTAT=ACCEPTED:info
	@tactical-stealth-squad.de
ATTENDEE;CN="masterT00L";CUTYPE=INDIVIDUAL;PARTSTAT=ACCEPTED
	:info@tactical-stealth-squad.de
ATTENDEE;CN="Julius.";CUTYPE=INDIVIDUAL;PARTSTAT=ACCEPTED:in
	fo@tactical-stealth-squad.de
ATTENDEE;CN="brainslush";CUTYPE=INDIVIDUAL;PARTSTAT=ACCEPTED
	:info@tactical-stealth-squad.de
END:VEVENT
BEGIN:VEVENT
SUMMARY:Öffentliches Training UAT Option II
DTSTAMP:20171111T125535Z
SEQUENCE:0
UID:576-7-3dfef6adaeb74c748516d44630a423c7@tactical-stealth-squad.de
ORGANIZER;CN="brainslush":info@tactical-stealth-squad.de
DESCRIPTION:\nVerteifung UAT.\n
DTSTART:20171116T190000Z
DTEND:20171116T210000Z
ATTENDEE;CN="joker7";CUTYPE=INDIVIDUAL;PARTSTAT=ACCEPTED:inf
	o@tactical-stealth-squad.de
ATTENDEE;CN="Cring";CUTYPE=INDIVIDUAL;PARTSTAT=ACCEPTED:info
	@tactical-stealth-squad.de
ATTENDEE;CN="masterT00L";CUTYPE=INDIVIDUAL;PARTSTAT=ACCEPTED
	:info@tactical-stealth-squad.de
ATTENDEE;CN="MacChronik";CUTYPE=INDIVIDUAL;PARTSTAT=ACCEPTED
	:info@tactical-stealth-squad.de
END:VEVENT
BEGIN:VEVENT
SUMMARY:Öffentliches Training UAT Option I
DTSTAMP:20171111T125500Z
SEQUENCE:0
UID:575-7-3dfef6adaeb74c748516d44630a423c7@tactical-stealth-squad.de
ORGANIZER;CN="brainslush":info@tactical-stealth-squad.de
DESCRIPTION:\nOffenes Training Vertiefung. Es wird der Tag mit den meist
	en Anmeldungen als Training genutzt\n
DTSTART:20171115T190000Z
DTEND:20171115T210000Z
ATTENDEE;CN="brainslush";CUTYPE=INDIVIDUAL;PARTSTAT=ACCEPTED
	:info@tactical-stealth-squad.de
ATTENDEE;CN="joker7";CUTYPE=INDIVIDUAL;PARTSTAT=ACCEPTED:inf
	o@tactical-stealth-squad.de
ATTENDEE;CN="Julius.";CUTYPE=INDIVIDUAL;PARTSTAT=ACCEPTED:in
	fo@tactical-stealth-squad.de
END:VEVENT
BEGIN:VEVENT
SUMMARY:Öffentliches Training CAS
DTSTAMP:20171112T153707Z
SEQUENCE:0
UID:577-7-3dfef6adaeb74c748516d44630a423c7@tactical-stealth-squad.de
ORGANIZER;CN="Julius.":info@tactical-stealth-squad.de
DESCRIPTION:\nAuf den 14.11.17 verschoben:\n\nZwei Piloten stehen zu Ver
	fügung.\nZwei Jtacs wären gut.\nInteressierte können gerne teilnehmen.\
	n
DTSTART:20171114T180000Z
DTEND:20171114T213000Z
ATTENDEE;CN="Blackhawk";CUTYPE=INDIVIDUAL;PARTSTAT=ACCEPTED:
	info@tactical-stealth-squad.de
ATTENDEE;CN="joker7";CUTYPE=INDIVIDUAL;PARTSTAT=ACCEPTED:inf
	o@tactical-stealth-squad.de
ATTENDEE;CN="Julius.";CUTYPE=INDIVIDUAL;PARTSTAT=ACCEPTED:in
	fo@tactical-stealth-squad.de
END:VEVENT
BEGIN:VEVENT
SUMMARY:Öffentliches Training UAT
DTSTAMP:20171107T101551Z
SEQUENCE:0
UID:573-7-3dfef6adaeb74c748516d44630a423c7@tactical-stealth-squad.de
ORGANIZER;CN="brainslush":info@tactical-stealth-squad.de
DESCRIPTION:\nÖffentliches Training UAT\n
DTSTART:20171108T190000Z
DTEND:20171108T213000Z
ATTENDEE;CN="brainslush";CUTYPE=INDIVIDUAL;PARTSTAT=ACCEPTED
	:info@tactical-stealth-squad.de
ATTENDEE;CN="joker7";CUTYPE=INDIVIDUAL;PARTSTAT=ACCEPTED:inf
	o@tactical-stealth-squad.de
ATTENDEE;CN="Julius.";CUTYPE=INDIVIDUAL;PARTSTAT=ACCEPTED:in
	fo@tactical-stealth-squad.de
ATTENDEE;CN="Natas";CUTYPE=INDIVIDUAL;PARTSTAT=ACCEPTED:info
	@tactical-stealth-squad.de
ATTENDEE;CN="masterT00L";CUTYPE=INDIVIDUAL;PARTSTAT=ACCEPTED
	:info@tactical-stealth-squad.de
END:VEVENT
BEGIN:VEVENT
SUMMARY:Öffentliches Training UAT V
DTSTAMP:20171029T142213Z
SEQUENCE:0
UID:569-7-3dfef6adaeb74c748516d44630a423c7@tactical-stealth-squad.de
ORGANIZER;CN="MacChronik":info@tactical-stealth-squad.de
DESCRIPTION:\nTraining: Urbane Angriffs Techniken - UAT V\n
DTSTART:20171101T190000Z
DTEND:20171101T213000Z
ATTENDEE;CN="joker7";CUTYPE=INDIVIDUAL;PARTSTAT=ACCEPTED:inf
	o@tactical-stealth-squad.de
ATTENDEE;CN="Cring";CUTYPE=INDIVIDUAL;PARTSTAT=ACCEPTED:info
	@tactical-stealth-squad.de
ATTENDEE;CN="Natas";CUTYPE=INDIVIDUAL;PARTSTAT=ACCEPTED:info
	@tactical-stealth-squad.de
END:VEVENT
BEGIN:VEVENT
SUMMARY:Öffentliches Training UAT IV
DTSTAMP:20171019T203259Z
SEQUENCE:0
UID:567-7-3dfef6adaeb74c748516d44630a423c7@tactical-stealth-squad.de
ORGANIZER;CN="MacChronik":info@tactical-stealth-squad.de
DESCRIPTION:\nUrbanes Angriffs Training - UAT IV\n
DTSTART:20171025T180000Z
DTEND:20171025T203000Z
ATTENDEE;CN="MacChronik";CUTYPE=INDIVIDUAL;PARTSTAT=ACCEPTED
	:info@tactical-stealth-squad.de
ATTENDEE;CN="joker7";CUTYPE=INDIVIDUAL;PARTSTAT=ACCEPTED:inf
	o@tactical-stealth-squad.de
ATTENDEE;CN="Cring";CUTYPE=INDIVIDUAL;PARTSTAT=ACCEPTED:info
	@tactical-stealth-squad.de
ATTENDEE;CN="Julius.";CUTYPE=INDIVIDUAL;PARTSTAT=ACCEPTED:in
	fo@tactical-stealth-squad.de
ATTENDEE;CN="Natas";CUTYPE=INDIVIDUAL;PARTSTAT=ACCEPTED:info
	@tactical-stealth-squad.de
ATTENDEE;CN="masterT00L";CUTYPE=INDIVIDUAL;PARTSTAT=ACCEPTED
	:info@tactical-stealth-squad.de
END:VEVENT
BEGIN:VEVENT
SUMMARY:Öffentliches Training UAT III
DTSTAMP:20171011T205952Z
SEQUENCE:0
UID:565-7-3dfef6adaeb74c748516d44630a423c7@tactical-stealth-squad.de
ORGANIZER;CN="MacChronik":info@tactical-stealth-squad.de
DESCRIPTION:\nNächster Teil des Urbanen Angriffs Trainings. Mitmachen 
	können alle\, die an UAT I und II teilgenommen haben.\n
DTSTART:20171019T180000Z
DTEND:20171019T203000Z
ATTENDEE;CN="MacChronik";CUTYPE=INDIVIDUAL;PARTSTAT=ACCEPTED
	:info@tactical-stealth-squad.de
ATTENDEE;CN="Cring";CUTYPE=INDIVIDUAL;PARTSTAT=ACCEPTED:info
	@tactical-stealth-squad.de
ATTENDEE;CN="joker7";CUTYPE=INDIVIDUAL;PARTSTAT=ACCEPTED:inf
	o@tactical-stealth-squad.de
ATTENDEE;CN="Natas";CUTYPE=INDIVIDUAL;PARTSTAT=ACCEPTED:info
	@tactical-stealth-squad.de
ATTENDEE;CN="Julius.";CUTYPE=INDIVIDUAL;PARTSTAT=ACCEPTED:in
	fo@tactical-stealth-squad.de
ATTENDEE;CN="brainslush";CUTYPE=INDIVIDUAL;PARTSTAT=ACCEPTED
	:info@tactical-stealth-squad.de
END:VEVENT
BEGIN:VEVENT
SUMMARY:Öffentliches Training UAT II
DTSTAMP:20171004T204006Z
SEQUENCE:0
UID:564-7-3dfef6adaeb74c748516d44630a423c7@tactical-stealth-squad.de
ORGANIZER;CN="MacChronik":info@tactical-stealth-squad.de
DESCRIPTION:\nDas Urbane Angriffs Training geht in die nächste Runde. E
	ingeladen sind wieder alle TSS Mitglieder mit abgeschlossenem BCT.\n
DTSTART:20171011T180000Z
DTEND:20171011T203000Z
ATTENDEE;CN="MacChronik";CUTYPE=INDIVIDUAL;PARTSTAT=ACCEPTED
	:info@tactical-stealth-squad.de
ATTENDEE;CN="joker7";CUTYPE=INDIVIDUAL;PARTSTAT=ACCEPTED:inf
	o@tactical-stealth-squad.de
ATTENDEE;CN="Blackhawk";CUTYPE=INDIVIDUAL;PARTSTAT=ACCEPTED:
	info@tactical-stealth-squad.de
ATTENDEE;CN="Julius.";CUTYPE=INDIVIDUAL;PARTSTAT=ACCEPTED:in
	fo@tactical-stealth-squad.de
ATTENDEE;CN="Cring";CUTYPE=INDIVIDUAL;PARTSTAT=ACCEPTED:info
	@tactical-stealth-squad.de
ATTENDEE;CN="masterT00L";CUTYPE=INDIVIDUAL;PARTSTAT=ACCEPTED
	:info@tactical-stealth-squad.de
ATTENDEE;CN="Natas";CUTYPE=INDIVIDUAL;PARTSTAT=ACCEPTED:info
	@tactical-stealth-squad.de
ATTENDEE;CN="brainslush";CUTYPE=INDIVIDUAL;PARTSTAT=ACCEPTED
	:info@tactical-stealth-squad.de
END:VEVENT
BEGIN:VEVENT
SUMMARY:Öffentliches Training UAT
DTSTAMP:20170927T190154Z
SEQUENCE:0
UID:557-7-3dfef6adaeb74c748516d44630a423c7@tactical-stealth-squad.de
ORGANIZER;CN="MacChronik":info@tactical-stealth-squad.de
DESCRIPTION:\nÖffentliches Training UAT\nUAT - Urbane Angriffs Technike
	n - Häuserkampf\nWir trainieren die härteste aller infanteristischen Dis
	ziplinen.\nEingeladen ist jedes TSS Mitglied mit abgeschlossenem BCT.\n
DTSTART:20171004T180000Z
DTEND:20171004T203000Z
ATTENDEE;CN="MacChronik";CUTYPE=INDIVIDUAL;PARTSTAT=ACCEPTED
	:info@tactical-stealth-squad.de
ATTENDEE;CN="brainslush";CUTYPE=INDIVIDUAL;PARTSTAT=ACCEPTED
	:info@tactical-stealth-squad.de
ATTENDEE;CN="Julius.";CUTYPE=INDIVIDUAL;PARTSTAT=ACCEPTED:in
	fo@tactical-stealth-squad.de
ATTENDEE;CN="masterT00L";CUTYPE=INDIVIDUAL;PARTSTAT=ACCEPTED
	:info@tactical-stealth-squad.de
ATTENDEE;CN="Natas";CUTYPE=INDIVIDUAL;PARTSTAT=ACCEPTED:info
	@tactical-stealth-squad.de
ATTENDEE;CN="joker7";CUTYPE=INDIVIDUAL;PARTSTAT=ACCEPTED:inf
	o@tactical-stealth-squad.de
ATTENDEE;CN="Alcatron";CUTYPE=INDIVIDUAL;PARTSTAT=ACCEPTED:i
	nfo@tactical-stealth-squad.de
ATTENDEE;CN="Cring";CUTYPE=INDIVIDUAL;PARTSTAT=ACCEPTED:info
	@tactical-stealth-squad.de
END:VEVENT
BEGIN:VEVENT
SUMMARY:ACT TACP I JTAC - Praxis
DTSTAMP:20170518T125040Z
SEQUENCE:0
UID:510-7-3dfef6adaeb74c748516d44630a423c7@tactical-stealth-squad.de
ORGANIZER;CN="Alcatron":info@tactical-stealth-squad.de
DESCRIPTION:\nhttp://tactical-stealth-squad.de/forums/topic/779-act-jtac
	-praxis/\n
DTSTART:20170519T180000Z
DTEND:20170519T203000Z
ATTENDEE;CN="Alcatron";CUTYPE=INDIVIDUAL;PARTSTAT=ACCEPTED:i
	nfo@tactical-stealth-squad.de
ATTENDEE;CN="Julius.";CUTYPE=INDIVIDUAL;PARTSTAT=ACCEPTED:in
	fo@tactical-stealth-squad.de
ATTENDEE;CN="Blackhawk";CUTYPE=INDIVIDUAL;PARTSTAT=ACCEPTED:
	info@tactical-stealth-squad.de
ATTENDEE;CN="Bleifrosch";CUTYPE=INDIVIDUAL;PARTSTAT=ACCEPTED
	:info@tactical-stealth-squad.de
ATTENDEE;CN="NBRC_FOX";CUTYPE=INDIVIDUAL;PARTSTAT=ACCEPTED:i
	nfo@tactical-stealth-squad.de
ATTENDEE;CN="Borag";CUTYPE=INDIVIDUAL;PARTSTAT=ACCEPTED:info
	@tactical-stealth-squad.de
END:VEVENT
BEGIN:VEVENT
SUMMARY:ACT GR\, AR\, AR+GR
DTSTAMP:20170502T124415Z
SEQUENCE:0
UID:503-7-3dfef6adaeb74c748516d44630a423c7@tactical-stealth-squad.de
ORGANIZER;CN="MacChronik":info@tactical-stealth-squad.de
DESCRIPTION:\nAdvanced Combat Training zum Automatic Rifleman und Grenad
	ier. Alle TSS Member mit abgeschlossenem BCT sind eingeladen. Tragt Euch i
	m Kalender ein.\n
DTSTART:20170516T180000Z
DTEND:20170516T203000Z
ATTENDEE;CN="MacChronik";CUTYPE=INDIVIDUAL;PARTSTAT=ACCEPTED
	:info@tactical-stealth-squad.de
ATTENDEE;CN="HeavyMetall";CUTYPE=INDIVIDUAL;PARTSTAT=ACCEPTE
	D:info@tactical-stealth-squad.de
ATTENDEE;CN="NBRC_FOX";CUTYPE=INDIVIDUAL;PARTSTAT=ACCEPTED:i
	nfo@tactical-stealth-squad.de
ATTENDEE;CN="joker7";CUTYPE=INDIVIDUAL;PARTSTAT=ACCEPTED:inf
	o@tactical-stealth-squad.de
ATTENDEE;CN="Blackhawk";CUTYPE=INDIVIDUAL;PARTSTAT=ACCEPTED:
	info@tactical-stealth-squad.de
END:VEVENT
BEGIN:VEVENT
SUMMARY:Öffentliches Training\, Feuer und Bewegung\, Handstreich
DTSTAMP:20170501T100857Z
SEQUENCE:0
UID:502-7-3dfef6adaeb74c748516d44630a423c7@tactical-stealth-squad.de
ORGANIZER;CN="brainslush":info@tactical-stealth-squad.de
DESCRIPTION:\nÖffentliches Training\, Feuer und Bewegung\, Handstreich\
	n
DTSTART:20170509T173000Z
DTEND:20170509T203000Z
ATTENDEE;CN="brainslush";CUTYPE=INDIVIDUAL;PARTSTAT=ACCEPTED
	:info@tactical-stealth-squad.de
ATTENDEE;CN="joker7";CUTYPE=INDIVIDUAL;PARTSTAT=ACCEPTED:inf
	o@tactical-stealth-squad.de
ATTENDEE;CN="NBRC_FOX";CUTYPE=INDIVIDUAL;PARTSTAT=ACCEPTED:i
	nfo@tactical-stealth-squad.de
ATTENDEE;CN="masterT00L";CUTYPE=INDIVIDUAL;PARTSTAT=ACCEPTED
	:info@tactical-stealth-squad.de
END:VEVENT
BEGIN:VEVENT
SUMMARY:ACT- JTAC Praxis
DTSTAMP:20170421T121649Z
SEQUENCE:0
UID:498-7-3dfef6adaeb74c748516d44630a423c7@tactical-stealth-squad.de
ORGANIZER;CN="Julius.":info@tactical-stealth-squad.de
DESCRIPTION:\nPraxisteil des ACT JTAC!\n\nZeitansatz ca. 3-4h\nKann star
	k je nach Teilnehmerzahl schwanken!\n\nBitte zügig einen möglichen Termi
	n angeben!\n\nTeilnahmebedingung:\n-Abschluss Theorieteil ACT JTAC\n\nZusc
	hauer können gerne beiwohnen.\n
DTSTART:20170429T150000Z
DTEND:20170430T180000Z
ATTENDEE;CN="Julius.";CUTYPE=INDIVIDUAL;PARTSTAT=ACCEPTED:in
	fo@tactical-stealth-squad.de
END:VEVENT
BEGIN:VEVENT
SUMMARY:Öffentliches Training Ausweichen/SAT
DTSTAMP:20170415T084354Z
SEQUENCE:0
UID:494-7-3dfef6adaeb74c748516d44630a423c7@tactical-stealth-squad.de
ORGANIZER;CN="brainslush":info@tactical-stealth-squad.de
DESCRIPTION:\nDieses Training ist für alle Mitglieder des TSS zugängli
	ch. Mindestvoraussetzung sind ein abgeschlossenes BCT.\nThemeninhalt werde
	n Ausweichen/SAT sein.\n
DTSTART:20170420T173000Z
DTEND:20170420T203000Z
ATTENDEE;CN="brainslush";CUTYPE=INDIVIDUAL;PARTSTAT=ACCEPTED
	:info@tactical-stealth-squad.de
ATTENDEE;CN="Borag";CUTYPE=INDIVIDUAL;PARTSTAT=ACCEPTED:info
	@tactical-stealth-squad.de
ATTENDEE;CN="Alcatron";CUTYPE=INDIVIDUAL;PARTSTAT=ACCEPTED:i
	nfo@tactical-stealth-squad.de
ATTENDEE;CN="HeavyMetall";CUTYPE=INDIVIDUAL;PARTSTAT=ACCEPTE
	D:info@tactical-stealth-squad.de
ATTENDEE;CN="joker7";CUTYPE=INDIVIDUAL;PARTSTAT=ACCEPTED:inf
	o@tactical-stealth-squad.de
ATTENDEE;CN="Chuck";CUTYPE=INDIVIDUAL;PARTSTAT=ACCEPTED:info
	@tactical-stealth-squad.de
ATTENDEE;CN="Natas";CUTYPE=INDIVIDUAL;PARTSTAT=ACCEPTED:info
	@tactical-stealth-squad.de
END:VEVENT
END:VCALENDAR
