BEGIN:VCALENDAR
VERSION:2.0
PRODID:-//IP.Board Calendar 4.3.6//EN
METHOD:PUBLISH
CALSCALE:GREGORIAN
X-WR-CALNAME:Division Training
BEGIN:VTIMEZONE
TZID:Europe/London
TZURL:http://tzurl.org/zoneinfo/Europe/London
X-LIC-LOCATION:Europe/London
BEGIN:DAYLIGHT
TZOFFSETFROM:+0000
TZOFFSETTO:+0100
TZNAME:BST
DTSTART:20150329T020000Z
RRULE:FREQ=YEARLY;BYMONTH=3;BYDAY=-1SU
END:DAYLIGHT
BEGIN:STANDARD
TZOFFSETFROM:+0100
TZOFFSETTO:+0000
TZNAME:GMT
DTSTART:20151025T020000Z
RRULE:FREQ=YEARLY;BYMONTH=10;BYDAY=-1SU
END:STANDARD
END:VTIMEZONE
BEGIN:VEVENT
SUMMARY:RASP II
DTSTAMP:20150520T092835Z
SEQUENCE:0
UID:13-3-3dfef6adaeb74c748516d44630a423c7@tactical-stealth-squad.de
ORGANIZER;CN="brainslush":info@tactical-stealth-squad.de
DESCRIPTION:\nRASP II\nhttp://tactical-stealth-squad.de/forums/topic/60-
	ranger-trainingstermine/\n
DTSTART:20150520T180000Z
DTEND:20150520T210000Z
END:VEVENT
END:VCALENDAR
