BEGIN:VCALENDAR
VERSION:2.0
PRODID:-//IP.Board Calendar 4.3.6//EN
METHOD:PUBLISH
CALSCALE:GREGORIAN
X-WR-CALNAME:Daily Combat
BEGIN:VTIMEZONE
TZID:Europe/London
TZURL:http://tzurl.org/zoneinfo/Europe/London
X-LIC-LOCATION:Europe/London
BEGIN:DAYLIGHT
TZOFFSETFROM:+0000
TZOFFSETTO:+0100
TZNAME:BST
DTSTART:20150329T020000Z
RRULE:FREQ=YEARLY;BYMONTH=3;BYDAY=-1SU
END:DAYLIGHT
BEGIN:STANDARD
TZOFFSETFROM:+0100
TZOFFSETTO:+0000
TZNAME:GMT
DTSTART:20151025T020000Z
RRULE:FREQ=YEARLY;BYMONTH=10;BYDAY=-1SU
END:STANDARD
END:VTIMEZONE
BEGIN:VEVENT
SUMMARY:Combat-Monday
DTSTAMP:20151109T090852Z
SEQUENCE:0
UID:159-6-3dfef6adaeb74c748516d44630a423c7@tactical-stealth-squad.de
ORGANIZER;CN="masterT00L":info@tactical-stealth-squad.de
DESCRIPTION:\nAuch wenn Bulldogs Kampagne für diesen Montag ausgesetzt 
	werden sollte\, wird der Spielbetrieb nicht gestoppt.\nFür diesen Montag 
	wird anhand der angemeldeten Teilnehmerzahl eine Coop-Mission ausgewählt.
	 Übersteigt bis 1900h\, die Anzahl der Teilnehmer unsere größten Coop-M
	issionen\, wird eine Zeus-Mission aufgebaut. \n
DTSTART:20151109T190000Z
DTEND:20151109T213000Z
ATTENDEE;CN="masterT00L";CUTYPE=INDIVIDUAL;PARTSTAT=ACCEPTED
	:info@tactical-stealth-squad.de
ATTENDEE;CN="NBRC_FOX";CUTYPE=INDIVIDUAL;PARTSTAT=ACCEPTED:i
	nfo@tactical-stealth-squad.de
ATTENDEE;CN="Bleifrosch";CUTYPE=INDIVIDUAL;PARTSTAT=ACCEPTED
	:info@tactical-stealth-squad.de
ATTENDEE;CN="maxx";CUTYPE=INDIVIDUAL;PARTSTAT=ACCEPTED:info@
	tactical-stealth-squad.de
ATTENDEE;CN="brainslush";CUTYPE=INDIVIDUAL;PARTSTAT=ACCEPTED
	:info@tactical-stealth-squad.de
ATTENDEE;CN="Wolf";CUTYPE=INDIVIDUAL;PARTSTAT=ACCEPTED:info@
	tactical-stealth-squad.de
END:VEVENT
END:VCALENDAR
