BEGIN:VCALENDAR
VERSION:2.0
PRODID:-//IP.Board Calendar 4.3.6//EN
METHOD:PUBLISH
CALSCALE:GREGORIAN
X-WR-CALNAME:Events
BEGIN:VTIMEZONE
TZID:Europe/London
TZURL:http://tzurl.org/zoneinfo/Europe/London
X-LIC-LOCATION:Europe/London
BEGIN:DAYLIGHT
TZOFFSETFROM:+0000
TZOFFSETTO:+0100
TZNAME:BST
DTSTART:20160327T020000Z
RRULE:FREQ=YEARLY;BYMONTH=3;BYDAY=-1SU
END:DAYLIGHT
BEGIN:STANDARD
TZOFFSETFROM:+0100
TZOFFSETTO:+0000
TZNAME:GMT
DTSTART:20161030T020000Z
RRULE:FREQ=YEARLY;BYMONTH=10;BYDAY=-1SU
END:STANDARD
END:VTIMEZONE
BEGIN:VEVENT
SUMMARY:Co46 - State of Emergency
DTSTAMP:20160221T184834Z
SEQUENCE:0
UID:242-4-3dfef6adaeb74c748516d44630a423c7@tactical-stealth-squad.de
ORGANIZER;CN="masterT00L":info@tactical-stealth-squad.de
DESCRIPTION:\nHintergrund:Sahrani galt nach dem Bürgerkrieg von 2006 un
	d der Befreiung von Prinz Orlando im Jahre 2007 als befriedet. Die folgen
	den 8 Jahre wurde das Land durch den rechtmäßigen Throninhaber als monar
	chistische Republik regiert und der Hauptstadtflughafen für Kräfte der N
	ato\, insbesondere das USMC\, als Logistikstützpunkt zur Verfügung geste
	llt.Am 29.02.2016 erlitt der Prinz einen schweren Myokardinfarkt\, dessen 
	Auswirkungen er am 06.03.2016 im Alter von 37 Jahren erlag. Er hinterließ
	 keine Nachkommen und damit keinen Thronerben.In Folge dessen entbrannte e
	in politischer Streit um die weitere Ausrichtung der Republik\, welche in 
	einem Militärputsch unter General Rolando Armato gipfelte. Teile der ehe
	maligen RACS (Royal Army Corps of Sahrani) drangen von ihren großen Stüt
	zpunkten in Nordsahrani nach Südsahrani vor und konnten schnelle Erfolge 
	gegen Truppenteile\, welche eine demokratische Ausrichtung des Landes unte
	rstützten\, erzielen.Armatos Truppen drangen bis kurz vor Paraiso und Dol
	ores vor\, wo sie durch Mithilfe der vor Ort stationierten Truppen des USM
	C unter schweren Verlusten aufgehalten und schließlich an beiden Fronten 
	bis nach Corazol zurückgedrängt werden konnten.Weder Armatos Einheiten n
	och die ihm feindlich gesinnten Truppen der ehemaligen RACS bzw. des USMC 
	sind bis dato stark genug\, um eine Entscheidung des Konfliktes herbeizuf
	ühren. Deshalb hat der Republikanische Rat von Sahrani\, die nach dem To
	d von Prinz Orlando rechtmäßig amtierende Regierung\, die NATO um weiter
	e Hilfe gebeten. Um diese Hilfe zu leisten wurde eine QRF der britischen 
	Royal Marines nach Sahrani verlegt Es wird angestrebt durch eine offensive
	 Operation zu verhindern\, dass sich Armatos Truppen in ihren Stellungen e
	ingraben können. Die feindliche funkgestützte Kommunikation wird von 051
	0h an durch eine EA-18G Growler des USMC gestört werden\, diese muss den 
	Luftraum jedoch spätestens um 0705h verlassen und zur USS George H. W. Bu
	sh (CVN-77) im Westatalantik zurückkehren\, da der Flughafen von Paraiso 
	keine geeignete Versorgungsmöglichkeit für diesen Flugzeugtyp aufweist.
	 Lage:Der Feind hat Corazol Richtung West abgeriegelt und gräbt sich dor
	t derzeit ein. Aufklärungsdaten zeigen\, dass in Corazol Minenfelder ausg
	elegt werden\, welche unsere Kampfpanzer zwingen sollen eine Engstelle in 
	Form einer Brücke zu passieren. Wir konnten in Corazol feindliche MBT in
	 Halbzugstärke identifizieren.Die Daten zeigen auch\, dass die Küstenber
	eiche mit APERS- sowie AT-Minen gesichert werden um amphibische Angriffe z
	u verhindern\, jedoch sind die feindlichen Pioniere zahlenmäßig geschwä
	cht und kommen nur langsam voran. Im Bereich von Mercalillo\, nördlich vo
	n Corazol\, gibt es derzeit noch passierbare Küstenstreifen. Des Weitere
	n bringt der Feind stationäre MANPADS in küstennahe Stellungen (Markieru
	ngen &gt\;&gt\;Manpads&lt\;&lt\;) um luftgestützte Angriffe zu verhindern
	\, diese sind in der Lage Helikopter auf ca. 3 Km Entfernung zu bekämpfen
	. Im Norden und in Corazol wurden Luftabwehr-Selbstfahrlafetten gesichtet 
	(Markierungen &gt\;&gt\;AAA&lt\;&lt\;)\, die ungefähre Reichweite dieser 
	beträgt 1 Km.Im Bereich von Bagango konnten AWACS-Flugzeuge erhöhte Stra
	hlungsaufkommen im kurzwelligen\, elektromagnetischen Spektrum feststellen
	. Wir vermuten dort somit ein Lagezentrum oder einen Gefechtsstand\, jedoc
	h war keine genaü Lokalisierung und Identifikation möglich.Falls sich di
	e Annahme bestätigt könnte diese Einrichtung unseren Truppen durch die K
	oordinierung von Unterstüztungseinheiten aus dem Norden und Osten gefähr
	lich werden. Dies wird vorerst durch den Einsatz der EA-18G Growler verhin
	dert.Bei Obregan betreibt die ehemalige RACS einen Versorgungs- und Wartun
	gsstützpunkt für gepanzerte Einheiten. Während des Putsches beschädigt
	e Panzer und Panzerfahrzeuge werden dort derzeit wieder einsatztauglich ge
	macht. Abgehörter Kommunikation zur Folge kann der Feind den dort in Repa
	ratur befindlichen Panzerzug bis ca. 0700h +/- 15 min einsatzbereit machen
	. Mission:Ihr Hauptauftrag ist es\, die nord-östliche Landmasse von Sahr
	ani mittels Booten zu infiltrieren\, das Hauptquartier des Feindes und die
	 Reperatureinrichtung einzunehmen um eine weitere Stärkung der Verteidigu
	ng zu verhindern. Beide Einrichtungen müssen bis 0700 in unserer Hand se
	in da die Feindkräfte sonst eine zu große zahlenmäßige Überlegenheit 
	im Gebiet aufweisen werden.Um Logistik und MedEvac zu gewährleisten ist e
	s von Nöten\, die feindliche Luftabwehr\, vorzugsweise die Manpads bzw. d
	ie AAA-Stellung in Corazol\, stellenweise auszuschalten.Nachfolgend sollen
	 Sie die feindliche Verteidigungslinie in Corazol hinter den feindlichen L
	inien angreifen\, um so die feindlichen Befestigungen unschädlich zu mach
	en.Das Einrichten einer FOB im Bereich im Bereich um Bagango\, Mercalillo 
	und Obregan ist empfohlen\, insbesondere um die Logistik während des Eins
	atzes zu erleichtern. (Optional)Eigene Kräfte:Die Royal Marines der briti
	schen Streitkräfte konnten innerhalb der kurzen Zeit lediglich eine verkl
	einerte Kompanie inklusive Logistikeinheiten mobilisieren. Ihnen stehen z
	wei Platoons zu je zwei Sections (je eine Rifle- und Heavy Weapons Section
	) als Kampfeinheiten zur Verfügung.Unterstützung wird durch zwei Piloten
	 sowie einen luftverlegbaren Trupp für MedEvac und Logistik geleistet.Mit
	 ihnen wurden eine unbewaffnete HMA2 Wildcat zur Luftaufklärung\, zwei le
	icht bewaffnete AH1 Wildcats sowie vier Transporthubschrauber der Typen AW
	 101 Merlin AC3 und CH-47F Chinook eingeflogen.Das USMC stellt ihnen sämt
	liche Logistikfahrzeuge der Paraiso Airport Base sowie bei Rashidah genug 
	Schlauchboote für den Transport der Infanterie zur Verfügung.\nVerbünde
	te Kräfte:Die verbliebenen Verbände des USMC bewachen die Basis des Para
	iso Airport sowie die von Corazol nach Norden und Süden führenden Routen
	 auf der südwestlichen Halbinsel. Von diesen Truppen ist keine direkte H
	ilfe zu erwarten\, da sie durch Verluste/Beschädigungen nur bedingt einsa
	tzfähig sind. Feindkräfte:Die Kräfte der RACS bestehen hauptsächlich 
	aus\, teilweise motorisierten\, Infanterieeinheiten mit M-16 Sturmgewehren
	 sowie älteren Waffen aus russischer Produktion. Auch stationäre Maschi
	nengewehre des Typs M2 Browning sowie stationäre Maschinengranatwerfer Mk
	19 könnten eingesetzt werden\, teilweise montiert auf leichten Fahrzeugen
	.Der Feind konnte einen Zug Kampfpanzer des Typs T-72B in das Einsatzgebie
	t bringen und macht derzeit weitere beschädigte Einheiten kampfbereit.Des
	 Weiteren verfügt der Feind über die gekennzeichneten Luftabwehrstellung
	en an der Westküste. Weitere sind bekannt\, jedoch für die Mission nicht
	 von Belang.Über die verbleibende Stärke der feindlichen Luftstreitkräf
	te ist derzeit nichts bekannt. Es handelt sich jedoch lediglich um ältere
	 Versionen von US Transport- und Aufklärungshelikoptern der TypenUH-60 so
	wie MH-6 und AH-6. Einige Helikopter konnten in den letzten Tagen vernicht
	et werden\, es ist jedoch nicht klar ob der Feind über weitere Kapazität
	en verfügt. \nZivile Einheiten:Sahrani ist größtenteils immernoch eine
	 bewohnte Insel. Lediglich Corazol wurde evakuiert\, in allen anderen Stä
	dten ist mit Zivilisten zu rechnen. Vermeiden sie zivile Verluste und Sch
	äden an der Infrastruktur so gut es geht. Unbeabsichtigte Kollateralschä
	den müssen jedoch möglicherweise in Kauf genommen werden.Wetter:\nFrühn
	ebel\, später für örtliche Verhältnisse tiefe Temperaturen um 10-15 °
	C. Leichte Bewölkung bis Sonnenschein erwartet.\n
DTSTART:20160319T180000Z
DTEND:20160319T223000Z
END:VEVENT
END:VCALENDAR
