BEGIN:VCALENDAR
VERSION:2.0
PRODID:-//IP.Board Calendar 4.3.6//EN
METHOD:PUBLISH
CALSCALE:GREGORIAN
X-WR-CALNAME:Division Training
BEGIN:VTIMEZONE
TZID:Europe/London
TZURL:http://tzurl.org/zoneinfo/Europe/London
X-LIC-LOCATION:Europe/London
BEGIN:DAYLIGHT
TZOFFSETFROM:+0000
TZOFFSETTO:+0100
TZNAME:BST
DTSTART:20160327T020000Z
RRULE:FREQ=YEARLY;BYMONTH=3;BYDAY=-1SU
END:DAYLIGHT
BEGIN:STANDARD
TZOFFSETFROM:+0100
TZOFFSETTO:+0000
TZNAME:GMT
DTSTART:20161030T020000Z
RRULE:FREQ=YEARLY;BYMONTH=10;BYDAY=-1SU
END:STANDARD
END:VTIMEZONE
BEGIN:VEVENT
SUMMARY:Ranger Training
DTSTAMP:20160815T111943Z
SEQUENCE:0
UID:371-3-3dfef6adaeb74c748516d44630a423c7@tactical-stealth-squad.de
ORGANIZER;CN="masterT00L":info@tactical-stealth-squad.de
DESCRIPTION:\n----------------------------------------\nAuf Donnerstag v
	erschoben\n----------------------------------------\n\nIn den folgenden Tr
	ainings werden Lösungen für die erkannten Probleme des Joint-Ops-Trainin
	gs vor zwei Wochen gesucht und ausprobiert.\nPrimär gehen wir auf das Pro
	blem Roomclearing in Nachteinsätzen ein.\nFalls der Dienstag-Termin zu ku
	rzfristig ist\, tragt euch bitte für Donnerstag ein. Es kommt diese Woche
	 vor allem auf Erkenntnisgewinnung an\, auf dessen Grundlage wir unter Ums
	tänden unsere Ausrüstung anpassen. Wenn wir uns diese Woche konzentriert
	 zusammen setzen\, reicht ein Termin völlig aus.\n
DTSTART;VALUE=DATE:20160815
ATTENDEE;CN="masterT00L";CUTYPE=INDIVIDUAL;PARTSTAT=ACCEPTED
	:info@tactical-stealth-squad.de
ATTENDEE;CN="brainslush";CUTYPE=INDIVIDUAL;PARTSTAT=ACCEPTED
	:info@tactical-stealth-squad.de
ATTENDEE;CN="Alcatron";CUTYPE=INDIVIDUAL;PARTSTAT=ACCEPTED:i
	nfo@tactical-stealth-squad.de
END:VEVENT
END:VCALENDAR
