BEGIN:VCALENDAR
VERSION:2.0
PRODID:-//IP.Board Calendar 4.3.6//EN
METHOD:PUBLISH
CALSCALE:GREGORIAN
X-WR-CALNAME:Daily Combat
BEGIN:VTIMEZONE
TZID:Europe/London
TZURL:http://tzurl.org/zoneinfo/Europe/London
X-LIC-LOCATION:Europe/London
BEGIN:DAYLIGHT
TZOFFSETFROM:+0000
TZOFFSETTO:+0100
TZNAME:BST
DTSTART:20150329T020000Z
RRULE:FREQ=YEARLY;BYMONTH=3;BYDAY=-1SU
END:DAYLIGHT
BEGIN:STANDARD
TZOFFSETFROM:+0100
TZOFFSETTO:+0000
TZNAME:GMT
DTSTART:20151025T020000Z
RRULE:FREQ=YEARLY;BYMONTH=10;BYDAY=-1SU
END:STANDARD
END:VTIMEZONE
BEGIN:VEVENT
SUMMARY:OP Stronghold
DTSTAMP:20150706T064709Z
SEQUENCE:0
UID:42-6-3dfef6adaeb74c748516d44630a423c7@tactical-stealth-squad.de
ORGANIZER;CN="NBRC_FOX":info@tactical-stealth-squad.de
DESCRIPTION:\nhttp://tactical-stealth-squad.de/forums/topic/218-op-stron
	ghold-672015/\n
DTSTART:20150706T173000Z
DTEND:20150706T210000Z
ATTENDEE;CN="NBRC_FOX";CUTYPE=INDIVIDUAL;PARTSTAT=ACCEPTED:i
	nfo@tactical-stealth-squad.de
ATTENDEE;CN="Keano";CUTYPE=INDIVIDUAL;PARTSTAT=ACCEPTED:info
	@tactical-stealth-squad.de
ATTENDEE;CN="Waschbier";CUTYPE=INDIVIDUAL;PARTSTAT=ACCEPTED:
	info@tactical-stealth-squad.de
ATTENDEE;CN="Lee";CUTYPE=INDIVIDUAL;PARTSTAT=ACCEPTED:info@t
	actical-stealth-squad.de
ATTENDEE;CN="Bulldog";CUTYPE=INDIVIDUAL;PARTSTAT=ACCEPTED:in
	fo@tactical-stealth-squad.de
ATTENDEE;CN="Wolf";CUTYPE=INDIVIDUAL;PARTSTAT=ACCEPTED:info@
	tactical-stealth-squad.de
ATTENDEE;CN="Chuck";CUTYPE=INDIVIDUAL;PARTSTAT=ACCEPTED:info
	@tactical-stealth-squad.de
END:VEVENT
END:VCALENDAR
