BEGIN:VCALENDAR
VERSION:2.0
PRODID:-//IP.Board Calendar 4.3.6//EN
METHOD:PUBLISH
CALSCALE:GREGORIAN
X-WR-CALNAME:Division Training
BEGIN:VTIMEZONE
TZID:Europe/London
TZURL:http://tzurl.org/zoneinfo/Europe/London
X-LIC-LOCATION:Europe/London
BEGIN:DAYLIGHT
TZOFFSETFROM:+0000
TZOFFSETTO:+0100
TZNAME:BST
DTSTART:20180325T020000Z
RRULE:FREQ=YEARLY;BYMONTH=3;BYDAY=-1SU
END:DAYLIGHT
BEGIN:STANDARD
TZOFFSETFROM:+0100
TZOFFSETTO:+0000
TZNAME:GMT
DTSTART:20181028T020000Z
RRULE:FREQ=YEARLY;BYMONTH=10;BYDAY=-1SU
END:STANDARD
END:VTIMEZONE
BEGIN:VEVENT
SUMMARY:offenes Training
DTSTAMP:20180626T184613Z
SEQUENCE:0
UID:683-3-3dfef6adaeb74c748516d44630a423c7@tactical-stealth-squad.de
ORGANIZER;CN="masterT00L":info@tactical-stealth-squad.de
DESCRIPTION:\n\n	Cring bereitet das Training vor.\n\n\n\n		UAT\n		\n				
	Übergang von offenen zu urbanen Gelände\n			\n		\n\n	 \n\n\n\n	!Nicht R
	anger exklusiv!\n\n
DTSTART:20180703T180000Z
DTEND:20180703T203000Z
ATTENDEE;CN="joker7";CUTYPE=INDIVIDUAL;PARTSTAT=ACCEPTED:inf
	o@tactical-stealth-squad.de
ATTENDEE;CN="Julius.";CUTYPE=INDIVIDUAL;PARTSTAT=ACCEPTED:in
	fo@tactical-stealth-squad.de
END:VEVENT
END:VCALENDAR
