BEGIN:VCALENDAR
VERSION:2.0
PRODID:-//IP.Board Calendar 4.3.6//EN
METHOD:PUBLISH
CALSCALE:GREGORIAN
X-WR-CALNAME:Daily Combat
BEGIN:VTIMEZONE
TZID:Europe/London
TZURL:http://tzurl.org/zoneinfo/Europe/London
X-LIC-LOCATION:Europe/London
BEGIN:DAYLIGHT
TZOFFSETFROM:+0000
TZOFFSETTO:+0100
TZNAME:BST
DTSTART:20180325T020000Z
RRULE:FREQ=YEARLY;BYMONTH=3;BYDAY=-1SU
END:DAYLIGHT
BEGIN:STANDARD
TZOFFSETFROM:+0100
TZOFFSETTO:+0000
TZNAME:GMT
DTSTART:20181028T020000Z
RRULE:FREQ=YEARLY;BYMONTH=10;BYDAY=-1SU
END:STANDARD
END:VTIMEZONE
BEGIN:VEVENT
SUMMARY:Combat Monday
DTSTAMP:20180818T084124Z
SEQUENCE:0
UID:693-6-3dfef6adaeb74c748516d44630a423c7@tactical-stealth-squad.de
ORGANIZER;CN="masterT00L":info@tactical-stealth-squad.de
DESCRIPTION:\n	\"Sie sind immer eine Gangart tiefer als ich\, \n\n	wenn
	 ich stehe\, hocken sie\, \n\n	wenn ich hocke\, liegen sie \n\n	und wenn
	 ich liege.... Spaten frei!\"\n
DTSTART:20180820T180000Z
DTEND:20180820T203000Z
ATTENDEE;CN="masterT00L";CUTYPE=INDIVIDUAL;PARTSTAT=ACCEPTED
	:info@tactical-stealth-squad.de
ATTENDEE;CN="joker7";CUTYPE=INDIVIDUAL;PARTSTAT=ACCEPTED:inf
	o@tactical-stealth-squad.de
ATTENDEE;CN="NBRC_FOX";CUTYPE=INDIVIDUAL;PARTSTAT=ACCEPTED:i
	nfo@tactical-stealth-squad.de
ATTENDEE;CN="Natas";CUTYPE=INDIVIDUAL;PARTSTAT=ACCEPTED:info
	@tactical-stealth-squad.de
ATTENDEE;CN="maxx";CUTYPE=INDIVIDUAL;PARTSTAT=ACCEPTED:info@
	tactical-stealth-squad.de
END:VEVENT
END:VCALENDAR
