BEGIN:VCALENDAR
VERSION:2.0
PRODID:-//IP.Board Calendar 4.3.6//EN
METHOD:PUBLISH
CALSCALE:GREGORIAN
X-WR-CALNAME:Daily Combat
BEGIN:VTIMEZONE
TZID:Europe/London
TZURL:http://tzurl.org/zoneinfo/Europe/London
X-LIC-LOCATION:Europe/London
BEGIN:DAYLIGHT
TZOFFSETFROM:+0000
TZOFFSETTO:+0100
TZNAME:BST
DTSTART:20180325T020000Z
RRULE:FREQ=YEARLY;BYMONTH=3;BYDAY=-1SU
END:DAYLIGHT
BEGIN:STANDARD
TZOFFSETFROM:+0100
TZOFFSETTO:+0000
TZNAME:GMT
DTSTART:20181028T020000Z
RRULE:FREQ=YEARLY;BYMONTH=10;BYDAY=-1SU
END:STANDARD
END:VTIMEZONE
BEGIN:VEVENT
SUMMARY:Combat Monday
DTSTAMP:20180917T132342Z
SEQUENCE:0
UID:701-6-3dfef6adaeb74c748516d44630a423c7@tactical-stealth-squad.de
ORGANIZER;CN="masterT00L":info@tactical-stealth-squad.de
DESCRIPTION:\n	Operative Hektik ersetzt geistige Windstille\n
DTSTART:20180924T180000Z
ATTENDEE;CN="joker7";CUTYPE=INDIVIDUAL;PARTSTAT=ACCEPTED:inf
	o@tactical-stealth-squad.de
ATTENDEE;CN="NBRC_FOX";CUTYPE=INDIVIDUAL;PARTSTAT=ACCEPTED:i
	nfo@tactical-stealth-squad.de
ATTENDEE;CN="Julius.";CUTYPE=INDIVIDUAL;PARTSTAT=ACCEPTED:in
	fo@tactical-stealth-squad.de
ATTENDEE;CN="masterT00L";CUTYPE=INDIVIDUAL;PARTSTAT=ACCEPTED
	:info@tactical-stealth-squad.de
ATTENDEE;CN="maxx";CUTYPE=INDIVIDUAL;PARTSTAT=ACCEPTED:info@
	tactical-stealth-squad.de
ATTENDEE;CN="Blackhawk";CUTYPE=INDIVIDUAL;PARTSTAT=ACCEPTED:
	info@tactical-stealth-squad.de
ATTENDEE;CN="HeavyMetall";CUTYPE=INDIVIDUAL;PARTSTAT=ACCEPTE
	D:info@tactical-stealth-squad.de
END:VEVENT
END:VCALENDAR
