BEGIN:VCALENDAR
VERSION:2.0
PRODID:-//IP.Board Calendar 4.3.6//EN
METHOD:PUBLISH
CALSCALE:GREGORIAN
X-WR-CALNAME:Events
BEGIN:VTIMEZONE
TZID:Europe/London
TZURL:http://tzurl.org/zoneinfo/Europe/London
X-LIC-LOCATION:Europe/London
BEGIN:DAYLIGHT
TZOFFSETFROM:+0000
TZOFFSETTO:+0100
TZNAME:BST
DTSTART:20190331T020000Z
RRULE:FREQ=YEARLY;BYMONTH=3;BYDAY=-1SU
END:DAYLIGHT
BEGIN:STANDARD
TZOFFSETFROM:+0100
TZOFFSETTO:+0000
TZNAME:GMT
DTSTART:20191027T020000Z
RRULE:FREQ=YEARLY;BYMONTH=10;BYDAY=-1SU
END:STANDARD
END:VTIMEZONE
BEGIN:VEVENT
SUMMARY:[Event] 7. Puma Division Kennenlernen
DTSTAMP:20190913T172140Z
SEQUENCE:0
UID:790-4-3dfef6adaeb74c748516d44630a423c7@tactical-stealth-squad.de
ORGANIZER;CN="NBRC_FOX":info@tactical-stealth-squad.de
DESCRIPTION:\n	Link - Klick mich!\n
DTSTART:20190920T164500Z
DTEND:20190920T210000Z
ATTENDEE;CN="Hugo";CUTYPE=INDIVIDUAL;PARTSTAT=ACCEPTED:info@
	tactical-stealth-squad.de
ATTENDEE;CN="HeavyMetall";CUTYPE=INDIVIDUAL;PARTSTAT=ACCEPTE
	D:info@tactical-stealth-squad.de
END:VEVENT
END:VCALENDAR
